BEGIN:VCALENDAR
VERSION:2.0
PRODID:-//Medved Running &amp; Walking Outfitters - ECPv6.15.14//NONSGML v1.0//EN
CALSCALE:GREGORIAN
METHOD:PUBLISH
X-WR-CALNAME:Medved Running &amp; Walking Outfitters
X-ORIGINAL-URL:https://www.medvedrunwalk.com
X-WR-CALDESC:Events for Medved Running &amp; Walking Outfitters
REFRESH-INTERVAL;VALUE=DURATION:PT1H
X-Robots-Tag:noindex
X-PUBLISHED-TTL:PT1H
BEGIN:VTIMEZONE
TZID:America/New_York
BEGIN:DAYLIGHT
TZOFFSETFROM:-0500
TZOFFSETTO:-0400
TZNAME:EDT
DTSTART:20250309T070000
END:DAYLIGHT
BEGIN:STANDARD
TZOFFSETFROM:-0400
TZOFFSETTO:-0500
TZNAME:EST
DTSTART:20251102T060000
END:STANDARD
BEGIN:DAYLIGHT
TZOFFSETFROM:-0500
TZOFFSETTO:-0400
TZNAME:EDT
DTSTART:20260308T070000
END:DAYLIGHT
BEGIN:STANDARD
TZOFFSETFROM:-0400
TZOFFSETTO:-0500
TZNAME:EST
DTSTART:20261101T060000
END:STANDARD
BEGIN:DAYLIGHT
TZOFFSETFROM:-0500
TZOFFSETTO:-0400
TZNAME:EDT
DTSTART:20270314T070000
END:DAYLIGHT
BEGIN:STANDARD
TZOFFSETFROM:-0400
TZOFFSETTO:-0500
TZNAME:EST
DTSTART:20271107T060000
END:STANDARD
END:VTIMEZONE
BEGIN:VEVENT
DTSTART;TZID=America/New_York:20260514T180000
DTEND;TZID=America/New_York:20260514T200000
DTSTAMP:20260423T181503
CREATED:20260420T173406Z
LAST-MODIFIED:20260420T173406Z
UID:14084-1778781600-1778788800@www.medvedrunwalk.com
SUMMARY:Thirsty Thursday Run @ Medved
DESCRIPTION:Run\, Socialize\, and Unwind: It’s Thirsty Thursday with Medved! \nLooking for a fun way to break a sweat and connect with fellow runners? Join Medved Running & Walking Outfitters for our weekly Thirsty Thursday Run. \nThis Thursday at 6:00 PM\, we’ll depart from Medved. \nWe’re a welcoming group for all paces and abilities. Whether you’re chasing a new personal best or enjoying a casual jog\, you’ll fit right in.  If running isn’t on your agenda\, feel free to join us for the social hour afterward at FAVO. Enjoy some drinks and good conversation in a lively atmosphere. \nTo ensure a comfortable experience for all participants and respect venue policies\, we ask that you please leave your pets at home.
URL:https://www.medvedrunwalk.com/event/thirsty-thursday-run-medved-8/
LOCATION:Medved Running & Walking Outfitters\, 3400 Monroe Avenue\, Rochester\, NY\, 14618\, United States
CATEGORIES:FREE,Fun Run,Medved Sponsored,Running,Walk
ATTACH;FMTTYPE=image/png:https://www.medvedrunwalk.com/wp-content/uploads/2026/02/WEB-EVENT-PAGE-TEMPLATE-4.png
ORGANIZER;CN="Medved Running and Walking Outfitters":MAILTO:orders@medvedrunwalk.com
END:VEVENT
END:VCALENDAR